BEGIN:VCALENDAR
VERSION:2.0
PRODID:-// - ECPv6.15.12.2//NONSGML v1.0//EN
CALSCALE:GREGORIAN
METHOD:PUBLISH
X-ORIGINAL-URL:https://pioneerchristian.org
X-WR-CALDESC:Events for 
REFRESH-INTERVAL;VALUE=DURATION:PT1H
X-Robots-Tag:noindex
X-PUBLISHED-TTL:PT1H
BEGIN:VTIMEZONE
TZID:America/Vancouver
BEGIN:DAYLIGHT
TZOFFSETFROM:-0800
TZOFFSETTO:-0700
TZNAME:PDT
DTSTART:20210314T100000
END:DAYLIGHT
BEGIN:STANDARD
TZOFFSETFROM:-0700
TZOFFSETTO:-0800
TZNAME:PST
DTSTART:20211107T090000
END:STANDARD
BEGIN:DAYLIGHT
TZOFFSETFROM:-0800
TZOFFSETTO:-0700
TZNAME:PDT
DTSTART:20220313T100000
END:DAYLIGHT
BEGIN:STANDARD
TZOFFSETFROM:-0700
TZOFFSETTO:-0800
TZNAME:PST
DTSTART:20221106T090000
END:STANDARD
BEGIN:DAYLIGHT
TZOFFSETFROM:-0800
TZOFFSETTO:-0700
TZNAME:PDT
DTSTART:20230312T100000
END:DAYLIGHT
BEGIN:STANDARD
TZOFFSETFROM:-0700
TZOFFSETTO:-0800
TZNAME:PST
DTSTART:20231105T090000
END:STANDARD
END:VTIMEZONE
BEGIN:VEVENT
DTSTART;VALUE=DATE:20220417
DTEND;VALUE=DATE:20220418
DTSTAMP:20260421T000732
CREATED:20210909T163253Z
LAST-MODIFIED:20210909T163253Z
UID:6026-1650153600-1650239999@pioneerchristian.org
SUMMARY:Week 4
DESCRIPTION:
URL:https://pioneerchristian.org/event/week-4-4/
END:VEVENT
BEGIN:VEVENT
DTSTART;VALUE=DATE:20220415
DTEND;VALUE=DATE:20220416
DTSTAMP:20260421T000732
CREATED:20210909T163253Z
LAST-MODIFIED:20210909T163253Z
UID:6025-1649980800-1650067199@pioneerchristian.org
SUMMARY:Good Friday / No School
DESCRIPTION:
URL:https://pioneerchristian.org/event/good-friday-no-school-2/
END:VEVENT
BEGIN:VEVENT
DTSTART;VALUE=DATE:20220413
DTEND;VALUE=DATE:20220414
DTSTAMP:20260421T000732
CREATED:20210909T164739Z
LAST-MODIFIED:20210909T164739Z
UID:6106-1649808000-1649894399@pioneerchristian.org
SUMMARY:Kindergarten
DESCRIPTION:
URL:https://pioneerchristian.org/event/kindergarten-69/
END:VEVENT
BEGIN:VEVENT
DTSTART;VALUE=DATE:20220411
DTEND;VALUE=DATE:20220412
DTSTAMP:20260421T000732
CREATED:20210909T164739Z
LAST-MODIFIED:20210909T164739Z
UID:6105-1649635200-1649721599@pioneerchristian.org
SUMMARY:Kindergarten
DESCRIPTION:
URL:https://pioneerchristian.org/event/kindergarten-68/
END:VEVENT
BEGIN:VEVENT
DTSTART;VALUE=DATE:20220410
DTEND;VALUE=DATE:20220411
DTSTAMP:20260421T000732
CREATED:20210909T163253Z
LAST-MODIFIED:20210909T163253Z
UID:6024-1649548800-1649635199@pioneerchristian.org
SUMMARY:Week 3
DESCRIPTION:
URL:https://pioneerchristian.org/event/week-3-4/
END:VEVENT
BEGIN:VEVENT
DTSTART;VALUE=DATE:20220406
DTEND;VALUE=DATE:20220407
DTSTAMP:20260421T000732
CREATED:20210909T164739Z
LAST-MODIFIED:20210909T164739Z
UID:6104-1649203200-1649289599@pioneerchristian.org
SUMMARY:Kindergarten
DESCRIPTION:
URL:https://pioneerchristian.org/event/kindergarten-67/
END:VEVENT
BEGIN:VEVENT
DTSTART;VALUE=DATE:20220404
DTEND;VALUE=DATE:20220405
DTSTAMP:20260421T000732
CREATED:20210909T164739Z
LAST-MODIFIED:20210909T164739Z
UID:6103-1649030400-1649116799@pioneerchristian.org
SUMMARY:Kindergarten
DESCRIPTION:
URL:https://pioneerchristian.org/event/kindergarten-66/
END:VEVENT
BEGIN:VEVENT
DTSTART;VALUE=DATE:20220403
DTEND;VALUE=DATE:20220404
DTSTAMP:20260421T000732
CREATED:20210909T163252Z
LAST-MODIFIED:20210909T163252Z
UID:6023-1648944000-1649030399@pioneerchristian.org
SUMMARY:Week 2
DESCRIPTION:
URL:https://pioneerchristian.org/event/week-2-4/
END:VEVENT
BEGIN:VEVENT
DTSTART;VALUE=DATE:20220401
DTEND;VALUE=DATE:20220402
DTSTAMP:20260421T000732
CREATED:20210909T165217Z
LAST-MODIFIED:20210909T165217Z
UID:6135-1648771200-1648857599@pioneerchristian.org
SUMMARY:Hot Lunch
DESCRIPTION:
URL:https://pioneerchristian.org/event/hot-lunch-14/
END:VEVENT
BEGIN:VEVENT
DTSTART;VALUE=DATE:20220401
DTEND;VALUE=DATE:20220402
DTSTAMP:20260421T000732
CREATED:20210909T164739Z
LAST-MODIFIED:20210909T164739Z
UID:6102-1648771200-1648857599@pioneerchristian.org
SUMMARY:Kindergarten
DESCRIPTION:
URL:https://pioneerchristian.org/event/kindergarten-65/
END:VEVENT
BEGIN:VEVENT
DTSTART;VALUE=DATE:20220331
DTEND;VALUE=DATE:20220401
DTSTAMP:20260421T000732
CREATED:20210909T163252Z
LAST-MODIFIED:20210909T163252Z
UID:6022-1648684800-1648771199@pioneerchristian.org
SUMMARY:Parent-Teacher Conferences
DESCRIPTION:
URL:https://pioneerchristian.org/event/parent-teacher-conferences-6/
END:VEVENT
BEGIN:VEVENT
DTSTART;VALUE=DATE:20220330
DTEND;VALUE=DATE:20220331
DTSTAMP:20260421T000732
CREATED:20210909T164738Z
LAST-MODIFIED:20210909T164738Z
UID:6101-1648598400-1648684799@pioneerchristian.org
SUMMARY:Kindergarten
DESCRIPTION:
URL:https://pioneerchristian.org/event/kindergarten-64/
END:VEVENT
BEGIN:VEVENT
DTSTART;VALUE=DATE:20220329
DTEND;VALUE=DATE:20220330
DTSTAMP:20260421T000732
CREATED:20210909T163252Z
LAST-MODIFIED:20210909T163252Z
UID:6020-1648512000-1648598399@pioneerchristian.org
SUMMARY:Parent-Teacher Conferences
DESCRIPTION:
URL:https://pioneerchristian.org/event/parent-teacher-conferences-5/
END:VEVENT
BEGIN:VEVENT
DTSTART;VALUE=DATE:20220328
DTEND;VALUE=DATE:20220329
DTSTAMP:20260421T000732
CREATED:20210909T164738Z
LAST-MODIFIED:20210909T164738Z
UID:6100-1648425600-1648511999@pioneerchristian.org
SUMMARY:Kindergarten
DESCRIPTION:
URL:https://pioneerchristian.org/event/kindergarten-63/
END:VEVENT
BEGIN:VEVENT
DTSTART;VALUE=DATE:20220328
DTEND;VALUE=DATE:20220329
DTSTAMP:20260421T000732
CREATED:20210909T163252Z
LAST-MODIFIED:20210909T163252Z
UID:6021-1648425600-1648511999@pioneerchristian.org
SUMMARY:Progress Reports
DESCRIPTION:
URL:https://pioneerchristian.org/event/progress-reports-5/
END:VEVENT
BEGIN:VEVENT
DTSTART;VALUE=DATE:20220327
DTEND;VALUE=DATE:20220328
DTSTAMP:20260421T000732
CREATED:20210909T163252Z
LAST-MODIFIED:20210909T163252Z
UID:6019-1648339200-1648425599@pioneerchristian.org
SUMMARY:Week 1
DESCRIPTION:
URL:https://pioneerchristian.org/event/week-1-3/
END:VEVENT
BEGIN:VEVENT
DTSTART;VALUE=DATE:20220321
DTEND;VALUE=DATE:20220326
DTSTAMP:20260421T000732
CREATED:20210909T163252Z
LAST-MODIFIED:20210909T163252Z
UID:6018-1647820800-1648252799@pioneerchristian.org
SUMMARY:Spring Break
DESCRIPTION:
URL:https://pioneerchristian.org/event/spring-break/
END:VEVENT
BEGIN:VEVENT
DTSTART;VALUE=DATE:20220320
DTEND;VALUE=DATE:20220321
DTSTAMP:20260421T000732
CREATED:20210909T163251Z
LAST-MODIFIED:20210909T163251Z
UID:6017-1647734400-1647820799@pioneerchristian.org
SUMMARY:Quarter 4
DESCRIPTION:
URL:https://pioneerchristian.org/event/quarter-4/
END:VEVENT
BEGIN:VEVENT
DTSTART;VALUE=DATE:20220318
DTEND;VALUE=DATE:20220319
DTSTAMP:20260421T000732
CREATED:20210909T164738Z
LAST-MODIFIED:20210909T164738Z
UID:6099-1647561600-1647647999@pioneerchristian.org
SUMMARY:Kindergarten
DESCRIPTION:
URL:https://pioneerchristian.org/event/kindergarten-62/
END:VEVENT
BEGIN:VEVENT
DTSTART;VALUE=DATE:20220318
DTEND;VALUE=DATE:20220319
DTSTAMP:20260421T000732
CREATED:20210909T163251Z
LAST-MODIFIED:20210909T163251Z
UID:6016-1647561600-1647647999@pioneerchristian.org
SUMMARY:Half Day / End of Quarter 3
DESCRIPTION:
URL:https://pioneerchristian.org/event/half-day-end-of-quarter-3/
END:VEVENT
BEGIN:VEVENT
DTSTART;VALUE=DATE:20220316
DTEND;VALUE=DATE:20220317
DTSTAMP:20260421T000732
CREATED:20210909T164738Z
LAST-MODIFIED:20210909T164738Z
UID:6098-1647388800-1647475199@pioneerchristian.org
SUMMARY:Kindergarten
DESCRIPTION:
URL:https://pioneerchristian.org/event/kindergarten-61/
END:VEVENT
BEGIN:VEVENT
DTSTART;VALUE=DATE:20220314
DTEND;VALUE=DATE:20220315
DTSTAMP:20260421T000732
CREATED:20210909T164738Z
LAST-MODIFIED:20210909T164738Z
UID:6097-1647216000-1647302399@pioneerchristian.org
SUMMARY:Kindergarten
DESCRIPTION:
URL:https://pioneerchristian.org/event/kindergarten-60/
END:VEVENT
BEGIN:VEVENT
DTSTART;VALUE=DATE:20220313
DTEND;VALUE=DATE:20220314
DTSTAMP:20260421T000732
CREATED:20210909T163251Z
LAST-MODIFIED:20210909T163251Z
UID:6015-1647129600-1647215999@pioneerchristian.org
SUMMARY:Week 9
DESCRIPTION:
URL:https://pioneerchristian.org/event/week-9-2/
END:VEVENT
BEGIN:VEVENT
DTSTART;VALUE=DATE:20220309
DTEND;VALUE=DATE:20220310
DTSTAMP:20260421T000732
CREATED:20210909T164738Z
LAST-MODIFIED:20210909T164738Z
UID:6096-1646784000-1646870399@pioneerchristian.org
SUMMARY:Kindergarten
DESCRIPTION:
URL:https://pioneerchristian.org/event/kindergarten-59/
END:VEVENT
BEGIN:VEVENT
DTSTART;VALUE=DATE:20220307
DTEND;VALUE=DATE:20220308
DTSTAMP:20260421T000732
CREATED:20210909T164737Z
LAST-MODIFIED:20210909T164737Z
UID:6095-1646611200-1646697599@pioneerchristian.org
SUMMARY:Kindergarten
DESCRIPTION:
URL:https://pioneerchristian.org/event/kindergarten-58/
END:VEVENT
BEGIN:VEVENT
DTSTART;VALUE=DATE:20220306
DTEND;VALUE=DATE:20220307
DTSTAMP:20260421T000732
CREATED:20210909T163251Z
LAST-MODIFIED:20210909T163251Z
UID:6014-1646524800-1646611199@pioneerchristian.org
SUMMARY:Week 8
DESCRIPTION:
URL:https://pioneerchristian.org/event/week-8-3/
END:VEVENT
BEGIN:VEVENT
DTSTART;VALUE=DATE:20220304
DTEND;VALUE=DATE:20220305
DTSTAMP:20260421T000732
CREATED:20210909T165217Z
LAST-MODIFIED:20210909T165217Z
UID:6134-1646352000-1646438399@pioneerchristian.org
SUMMARY:Hot Lunch
DESCRIPTION:
URL:https://pioneerchristian.org/event/hot-lunch-13/
END:VEVENT
BEGIN:VEVENT
DTSTART;VALUE=DATE:20220304
DTEND;VALUE=DATE:20220305
DTSTAMP:20260421T000732
CREATED:20210909T164737Z
LAST-MODIFIED:20210909T164737Z
UID:6094-1646352000-1646438399@pioneerchristian.org
SUMMARY:Kindergarten
DESCRIPTION:
URL:https://pioneerchristian.org/event/kindergarten-57/
END:VEVENT
BEGIN:VEVENT
DTSTART;VALUE=DATE:20220302
DTEND;VALUE=DATE:20220303
DTSTAMP:20260421T000732
CREATED:20210909T164737Z
LAST-MODIFIED:20210909T164737Z
UID:6093-1646179200-1646265599@pioneerchristian.org
SUMMARY:Kindergarten
DESCRIPTION:
URL:https://pioneerchristian.org/event/kindergarten-56/
END:VEVENT
BEGIN:VEVENT
DTSTART;VALUE=DATE:20220228
DTEND;VALUE=DATE:20220301
DTSTAMP:20260421T000732
CREATED:20210909T164737Z
LAST-MODIFIED:20210909T164737Z
UID:6092-1646006400-1646092799@pioneerchristian.org
SUMMARY:Kindergarten
DESCRIPTION:
URL:https://pioneerchristian.org/event/kindergarten-55/
END:VEVENT
END:VCALENDAR