BEGIN:VCALENDAR
VERSION:2.0
PRODID:-// - ECPv6.15.12.2//NONSGML v1.0//EN
CALSCALE:GREGORIAN
METHOD:PUBLISH
X-ORIGINAL-URL:https://pioneerchristian.org
X-WR-CALDESC:Events for 
REFRESH-INTERVAL;VALUE=DURATION:PT1H
X-Robots-Tag:noindex
X-PUBLISHED-TTL:PT1H
BEGIN:VTIMEZONE
TZID:America/Vancouver
BEGIN:DAYLIGHT
TZOFFSETFROM:-0800
TZOFFSETTO:-0700
TZNAME:PDT
DTSTART:20210314T100000
END:DAYLIGHT
BEGIN:STANDARD
TZOFFSETFROM:-0700
TZOFFSETTO:-0800
TZNAME:PST
DTSTART:20211107T090000
END:STANDARD
BEGIN:DAYLIGHT
TZOFFSETFROM:-0800
TZOFFSETTO:-0700
TZNAME:PDT
DTSTART:20220313T100000
END:DAYLIGHT
BEGIN:STANDARD
TZOFFSETFROM:-0700
TZOFFSETTO:-0800
TZNAME:PST
DTSTART:20221106T090000
END:STANDARD
BEGIN:DAYLIGHT
TZOFFSETFROM:-0800
TZOFFSETTO:-0700
TZNAME:PDT
DTSTART:20230312T100000
END:DAYLIGHT
BEGIN:STANDARD
TZOFFSETFROM:-0700
TZOFFSETTO:-0800
TZNAME:PST
DTSTART:20231105T090000
END:STANDARD
END:VTIMEZONE
BEGIN:VEVENT
DTSTART;VALUE=DATE:20220925
DTEND;VALUE=DATE:20220926
DTSTAMP:20260420T121553
CREATED:20220805T224108Z
LAST-MODIFIED:20220805T224108Z
UID:6291-1664064000-1664150399@pioneerchristian.org
SUMMARY:Week 4
DESCRIPTION:
URL:https://pioneerchristian.org/event/week-4-5/
END:VEVENT
BEGIN:VEVENT
DTSTART;VALUE=DATE:20220923
DTEND;VALUE=DATE:20220924
DTSTAMP:20260420T121553
CREATED:20220805T224108Z
LAST-MODIFIED:20220805T224108Z
UID:6290-1663891200-1663977599@pioneerchristian.org
SUMMARY:Hot Lunch
DESCRIPTION:
URL:https://pioneerchristian.org/event/hot-lunch-17/
END:VEVENT
BEGIN:VEVENT
DTSTART;VALUE=DATE:20220923
DTEND;VALUE=DATE:20220924
DTSTAMP:20260420T121553
CREATED:20220805T224027Z
LAST-MODIFIED:20220805T224027Z
UID:6203-1663891200-1663977599@pioneerchristian.org
SUMMARY:Kindergarten
DESCRIPTION:
URL:https://pioneerchristian.org/event/kindergarten-90/
END:VEVENT
BEGIN:VEVENT
DTSTART;VALUE=DATE:20220921
DTEND;VALUE=DATE:20220922
DTSTAMP:20260420T121553
CREATED:20220805T224027Z
LAST-MODIFIED:20220805T224027Z
UID:6202-1663718400-1663804799@pioneerchristian.org
SUMMARY:Kindergarten
DESCRIPTION:
URL:https://pioneerchristian.org/event/kindergarten-89/
END:VEVENT
BEGIN:VEVENT
DTSTART;VALUE=DATE:20220919
DTEND;VALUE=DATE:20220920
DTSTAMP:20260420T121553
CREATED:20220805T224027Z
LAST-MODIFIED:20220805T224027Z
UID:6201-1663545600-1663631999@pioneerchristian.org
SUMMARY:Kindergarten
DESCRIPTION:
URL:https://pioneerchristian.org/event/kindergarten-88/
END:VEVENT
BEGIN:VEVENT
DTSTART;VALUE=DATE:20220918
DTEND;VALUE=DATE:20220919
DTSTAMP:20260420T121553
CREATED:20220805T224108Z
LAST-MODIFIED:20220805T224108Z
UID:6289-1663459200-1663545599@pioneerchristian.org
SUMMARY:Week 3
DESCRIPTION:
URL:https://pioneerchristian.org/event/week-3-5/
END:VEVENT
BEGIN:VEVENT
DTSTART;VALUE=DATE:20220914
DTEND;VALUE=DATE:20220915
DTSTAMP:20260420T121553
CREATED:20220805T224027Z
LAST-MODIFIED:20220805T224027Z
UID:6200-1663113600-1663199999@pioneerchristian.org
SUMMARY:Kindergarten
DESCRIPTION:
URL:https://pioneerchristian.org/event/kindergarten-87/
END:VEVENT
BEGIN:VEVENT
DTSTART;VALUE=DATE:20220912
DTEND;VALUE=DATE:20220913
DTSTAMP:20260420T121553
CREATED:20220805T224027Z
LAST-MODIFIED:20220805T224027Z
UID:6199-1662940800-1663027199@pioneerchristian.org
SUMMARY:Kindergarten
DESCRIPTION:
URL:https://pioneerchristian.org/event/kindergarten-86/
END:VEVENT
BEGIN:VEVENT
DTSTART;VALUE=DATE:20220911
DTEND;VALUE=DATE:20220912
DTSTAMP:20260420T121553
CREATED:20220805T224108Z
LAST-MODIFIED:20220805T224108Z
UID:6288-1662854400-1662940799@pioneerchristian.org
SUMMARY:Week 2
DESCRIPTION:
URL:https://pioneerchristian.org/event/week-2-5/
END:VEVENT
BEGIN:VEVENT
DTSTART;VALUE=DATE:20220909
DTEND;VALUE=DATE:20220910
DTSTAMP:20260420T121553
CREATED:20220805T224026Z
LAST-MODIFIED:20220805T224026Z
UID:6198-1662681600-1662767999@pioneerchristian.org
SUMMARY:Kindergarten
DESCRIPTION:
URL:https://pioneerchristian.org/event/kindergarten-85/
END:VEVENT
BEGIN:VEVENT
DTSTART;VALUE=DATE:20220906
DTEND;VALUE=DATE:20220907
DTSTAMP:20260420T121553
CREATED:20220805T224108Z
LAST-MODIFIED:20220805T224108Z
UID:6287-1662422400-1662508799@pioneerchristian.org
SUMMARY:First Day of School
DESCRIPTION:
URL:https://pioneerchristian.org/event/first-day-of-school-2/
END:VEVENT
BEGIN:VEVENT
DTSTART;VALUE=DATE:20220906
DTEND;VALUE=DATE:20220907
DTSTAMP:20260420T121553
CREATED:20220805T224026Z
LAST-MODIFIED:20220805T224026Z
UID:6197-1662422400-1662508799@pioneerchristian.org
SUMMARY:Kindergarden
DESCRIPTION:
URL:https://pioneerchristian.org/event/kindergarden/
END:VEVENT
BEGIN:VEVENT
DTSTART;VALUE=DATE:20220904
DTEND;VALUE=DATE:20220905
DTSTAMP:20260420T121553
CREATED:20220805T224108Z
LAST-MODIFIED:20220805T224108Z
UID:6285-1662249600-1662335999@pioneerchristian.org
SUMMARY:Week 1
DESCRIPTION:
URL:https://pioneerchristian.org/event/week-1-4/
END:VEVENT
BEGIN:VEVENT
DTSTART;VALUE=DATE:20220904
DTEND;VALUE=DATE:20220905
DTSTAMP:20260420T121553
CREATED:20220805T224108Z
LAST-MODIFIED:20220805T224108Z
UID:6286-1662249600-1662335999@pioneerchristian.org
SUMMARY:Quarter 1
DESCRIPTION:
URL:https://pioneerchristian.org/event/quarter-1/
END:VEVENT
BEGIN:VEVENT
DTSTART;TZID=America/Vancouver:20220901T183000
DTEND;TZID=America/Vancouver:20220901T193000
DTSTAMP:20260420T121553
CREATED:20220805T224108Z
LAST-MODIFIED:20220805T224108Z
UID:6284-1662057000-1662060600@pioneerchristian.org
SUMMARY:Back to School Night
DESCRIPTION:
URL:https://pioneerchristian.org/event/back-to-school-night/
END:VEVENT
BEGIN:VEVENT
DTSTART;VALUE=DATE:20220822
DTEND;VALUE=DATE:20220823
DTSTAMP:20260420T121553
CREATED:20220805T224108Z
LAST-MODIFIED:20220805T224108Z
UID:6283-1661126400-1661212799@pioneerchristian.org
SUMMARY:School Cleaning
DESCRIPTION:
URL:https://pioneerchristian.org/event/school-cleaning/
END:VEVENT
BEGIN:VEVENT
DTSTART;VALUE=DATE:20220526
DTEND;VALUE=DATE:20220527
DTSTAMP:20260420T121553
CREATED:20210909T164741Z
LAST-MODIFIED:20210909T164741Z
UID:6120-1653523200-1653609599@pioneerchristian.org
SUMMARY:Kindergarten
DESCRIPTION:
URL:https://pioneerchristian.org/event/kindergarten-83/
END:VEVENT
BEGIN:VEVENT
DTSTART;VALUE=DATE:20220526
DTEND;VALUE=DATE:20220527
DTSTAMP:20260420T121553
CREATED:20210909T163254Z
LAST-MODIFIED:20210909T163254Z
UID:6033-1653523200-1653609599@pioneerchristian.org
SUMMARY:Half Day / End of Quarter 4
DESCRIPTION:
URL:https://pioneerchristian.org/event/half-day-end-of-quarter-4/
END:VEVENT
BEGIN:VEVENT
DTSTART;VALUE=DATE:20220525
DTEND;VALUE=DATE:20220526
DTSTAMP:20260420T121553
CREATED:20210909T164742Z
LAST-MODIFIED:20210909T164742Z
UID:6121-1653436800-1653523199@pioneerchristian.org
SUMMARY:Kindergarten
DESCRIPTION:
URL:https://pioneerchristian.org/event/kindergarten-84/
END:VEVENT
BEGIN:VEVENT
DTSTART;VALUE=DATE:20220523
DTEND;VALUE=DATE:20220524
DTSTAMP:20260420T121553
CREATED:20210909T164741Z
LAST-MODIFIED:20210909T164741Z
UID:6119-1653264000-1653350399@pioneerchristian.org
SUMMARY:Kindergarten
DESCRIPTION:
URL:https://pioneerchristian.org/event/kindergarten-82/
END:VEVENT
BEGIN:VEVENT
DTSTART;VALUE=DATE:20220522
DTEND;VALUE=DATE:20220523
DTSTAMP:20260420T121553
CREATED:20210909T163254Z
LAST-MODIFIED:20210909T163254Z
UID:6032-1653177600-1653263999@pioneerchristian.org
SUMMARY:Week 9
DESCRIPTION:
URL:https://pioneerchristian.org/event/week-9-3/
END:VEVENT
BEGIN:VEVENT
DTSTART;VALUE=DATE:20220520
DTEND;VALUE=DATE:20220521
DTSTAMP:20260420T121553
CREATED:20210909T163254Z
LAST-MODIFIED:20210909T163254Z
UID:6031-1653004800-1653091199@pioneerchristian.org
SUMMARY:Graduation
DESCRIPTION:
URL:https://pioneerchristian.org/event/graduation/
END:VEVENT
BEGIN:VEVENT
DTSTART;VALUE=DATE:20220518
DTEND;VALUE=DATE:20220519
DTSTAMP:20260420T121553
CREATED:20210909T164741Z
LAST-MODIFIED:20210909T164741Z
UID:6118-1652832000-1652918399@pioneerchristian.org
SUMMARY:Kindergarten
DESCRIPTION:
URL:https://pioneerchristian.org/event/kindergarten-81/
END:VEVENT
BEGIN:VEVENT
DTSTART;VALUE=DATE:20220516
DTEND;VALUE=DATE:20220517
DTSTAMP:20260420T121553
CREATED:20210909T164741Z
LAST-MODIFIED:20210909T164741Z
UID:6117-1652659200-1652745599@pioneerchristian.org
SUMMARY:Kindergarten
DESCRIPTION:
URL:https://pioneerchristian.org/event/kindergarten-80/
END:VEVENT
BEGIN:VEVENT
DTSTART;VALUE=DATE:20220515
DTEND;VALUE=DATE:20220516
DTSTAMP:20260420T121553
CREATED:20210909T163254Z
LAST-MODIFIED:20210909T163254Z
UID:6030-1652572800-1652659199@pioneerchristian.org
SUMMARY:Week 8
DESCRIPTION:
URL:https://pioneerchristian.org/event/week-8-4/
END:VEVENT
BEGIN:VEVENT
DTSTART;VALUE=DATE:20220513
DTEND;VALUE=DATE:20220514
DTSTAMP:20260420T121553
CREATED:20210909T165217Z
LAST-MODIFIED:20210909T165217Z
UID:6137-1652400000-1652486399@pioneerchristian.org
SUMMARY:Hot Lunch
DESCRIPTION:
URL:https://pioneerchristian.org/event/hot-lunch-16/
END:VEVENT
BEGIN:VEVENT
DTSTART;VALUE=DATE:20220513
DTEND;VALUE=DATE:20220514
DTSTAMP:20260420T121553
CREATED:20210909T164741Z
LAST-MODIFIED:20210909T164741Z
UID:6116-1652400000-1652486399@pioneerchristian.org
SUMMARY:Kindergarten
DESCRIPTION:
URL:https://pioneerchristian.org/event/kindergarten-79/
END:VEVENT
BEGIN:VEVENT
DTSTART;VALUE=DATE:20220511
DTEND;VALUE=DATE:20220512
DTSTAMP:20260420T121553
CREATED:20210909T164741Z
LAST-MODIFIED:20210909T164741Z
UID:6115-1652227200-1652313599@pioneerchristian.org
SUMMARY:Kindergarten
DESCRIPTION:
URL:https://pioneerchristian.org/event/kindergarten-78/
END:VEVENT
BEGIN:VEVENT
DTSTART;VALUE=DATE:20220509
DTEND;VALUE=DATE:20220510
DTSTAMP:20260420T121553
CREATED:20210909T164740Z
LAST-MODIFIED:20210909T164740Z
UID:6114-1652054400-1652140799@pioneerchristian.org
SUMMARY:Kindergarten
DESCRIPTION:
URL:https://pioneerchristian.org/event/kindergarten-77/
END:VEVENT
BEGIN:VEVENT
DTSTART;VALUE=DATE:20220508
DTEND;VALUE=DATE:20220509
DTSTAMP:20260420T121553
CREATED:20210909T163253Z
LAST-MODIFIED:20210909T163253Z
UID:6029-1651968000-1652054399@pioneerchristian.org
SUMMARY:Week 7
DESCRIPTION:
URL:https://pioneerchristian.org/event/week-7-5/
END:VEVENT
END:VCALENDAR