BEGIN:VCALENDAR
VERSION:2.0
PRODID:-// - ECPv6.15.12.2//NONSGML v1.0//EN
CALSCALE:GREGORIAN
METHOD:PUBLISH
X-ORIGINAL-URL:https://pioneerchristian.org
X-WR-CALDESC:Events for 
REFRESH-INTERVAL;VALUE=DURATION:PT1H
X-Robots-Tag:noindex
X-PUBLISHED-TTL:PT1H
BEGIN:VTIMEZONE
TZID:America/Vancouver
BEGIN:DAYLIGHT
TZOFFSETFROM:-0800
TZOFFSETTO:-0700
TZNAME:PDT
DTSTART:20200308T100000
END:DAYLIGHT
BEGIN:STANDARD
TZOFFSETFROM:-0700
TZOFFSETTO:-0800
TZNAME:PST
DTSTART:20201101T090000
END:STANDARD
BEGIN:DAYLIGHT
TZOFFSETFROM:-0800
TZOFFSETTO:-0700
TZNAME:PDT
DTSTART:20210314T100000
END:DAYLIGHT
BEGIN:STANDARD
TZOFFSETFROM:-0700
TZOFFSETTO:-0800
TZNAME:PST
DTSTART:20211107T090000
END:STANDARD
BEGIN:DAYLIGHT
TZOFFSETFROM:-0800
TZOFFSETTO:-0700
TZNAME:PDT
DTSTART:20220313T100000
END:DAYLIGHT
BEGIN:STANDARD
TZOFFSETFROM:-0700
TZOFFSETTO:-0800
TZNAME:PST
DTSTART:20221106T090000
END:STANDARD
BEGIN:DAYLIGHT
TZOFFSETFROM:-0800
TZOFFSETTO:-0700
TZNAME:PDT
DTSTART:20230312T100000
END:DAYLIGHT
BEGIN:STANDARD
TZOFFSETFROM:-0700
TZOFFSETTO:-0800
TZNAME:PST
DTSTART:20231105T090000
END:STANDARD
END:VTIMEZONE
BEGIN:VEVENT
DTSTART;VALUE=DATE:20220126
DTEND;VALUE=DATE:20220127
DTSTAMP:20260421T122804
CREATED:20210909T164735Z
LAST-MODIFIED:20210909T164735Z
UID:6082-1643155200-1643241599@pioneerchristian.org
SUMMARY:Kindergarten
DESCRIPTION:
URL:https://pioneerchristian.org/event/kindergarten-45/
END:VEVENT
BEGIN:VEVENT
DTSTART;VALUE=DATE:20220124
DTEND;VALUE=DATE:20220125
DTSTAMP:20260421T122804
CREATED:20210909T164734Z
LAST-MODIFIED:20210909T164734Z
UID:6081-1642982400-1643068799@pioneerchristian.org
SUMMARY:Kindergarten
DESCRIPTION:
URL:https://pioneerchristian.org/event/kindergarten-44/
END:VEVENT
BEGIN:VEVENT
DTSTART;VALUE=DATE:20220123
DTEND;VALUE=DATE:20220124
DTSTAMP:20260421T122804
CREATED:20210909T163249Z
LAST-MODIFIED:20210909T163249Z
UID:6007-1642896000-1642982399@pioneerchristian.org
SUMMARY:Week 2
DESCRIPTION:
URL:https://pioneerchristian.org/event/week-2-3/
END:VEVENT
BEGIN:VEVENT
DTSTART;VALUE=DATE:20220121
DTEND;VALUE=DATE:20220122
DTSTAMP:20260421T122804
CREATED:20210909T165216Z
LAST-MODIFIED:20210909T165216Z
UID:6131-1642723200-1642809599@pioneerchristian.org
SUMMARY:Hot Lunch
DESCRIPTION:
URL:https://pioneerchristian.org/event/hot-lunch-10/
END:VEVENT
BEGIN:VEVENT
DTSTART;VALUE=DATE:20220121
DTEND;VALUE=DATE:20220122
DTSTAMP:20260421T122804
CREATED:20210909T164734Z
LAST-MODIFIED:20210909T164734Z
UID:6080-1642723200-1642809599@pioneerchristian.org
SUMMARY:Kindergarten
DESCRIPTION:
URL:https://pioneerchristian.org/event/kindergarten-43/
END:VEVENT
BEGIN:VEVENT
DTSTART;VALUE=DATE:20220120
DTEND;VALUE=DATE:20220121
DTSTAMP:20260421T122804
CREATED:20210909T163249Z
LAST-MODIFIED:20210909T163249Z
UID:6006-1642636800-1642723199@pioneerchristian.org
SUMMARY:Parent Teacher General Assembly
DESCRIPTION:
URL:https://pioneerchristian.org/event/parent-teacher-general-assembly/
END:VEVENT
BEGIN:VEVENT
DTSTART;VALUE=DATE:20220119
DTEND;VALUE=DATE:20220120
DTSTAMP:20260421T122804
CREATED:20210909T164734Z
LAST-MODIFIED:20210909T164734Z
UID:6079-1642550400-1642636799@pioneerchristian.org
SUMMARY:Kindergarten
DESCRIPTION:
URL:https://pioneerchristian.org/event/kindergarten-42/
END:VEVENT
BEGIN:VEVENT
DTSTART;VALUE=DATE:20220117
DTEND;VALUE=DATE:20220118
DTSTAMP:20260421T122804
CREATED:20210909T164734Z
LAST-MODIFIED:20210909T164734Z
UID:6078-1642377600-1642463999@pioneerchristian.org
SUMMARY:Kindergarten
DESCRIPTION:
URL:https://pioneerchristian.org/event/kindergarten-41/
END:VEVENT
BEGIN:VEVENT
DTSTART;VALUE=DATE:20220117
DTEND;VALUE=DATE:20220118
DTSTAMP:20260421T122804
CREATED:20210909T163249Z
LAST-MODIFIED:20210909T163249Z
UID:6004-1642377600-1642463999@pioneerchristian.org
SUMMARY:Progress Reports
DESCRIPTION:
URL:https://pioneerchristian.org/event/progress-reports-4/
END:VEVENT
BEGIN:VEVENT
DTSTART;VALUE=DATE:20220116
DTEND;VALUE=DATE:20220117
DTSTAMP:20260421T122804
CREATED:20210909T163249Z
LAST-MODIFIED:20210909T163249Z
UID:6005-1642291200-1642377599@pioneerchristian.org
SUMMARY:Week 1
DESCRIPTION:
URL:https://pioneerchristian.org/event/week-1-2/
END:VEVENT
BEGIN:VEVENT
DTSTART;VALUE=DATE:20220116
DTEND;VALUE=DATE:20220117
DTSTAMP:20260421T122804
CREATED:20210909T163249Z
LAST-MODIFIED:20210909T163249Z
UID:6003-1642291200-1642377599@pioneerchristian.org
SUMMARY:Quarter 3
DESCRIPTION:
URL:https://pioneerchristian.org/event/quarter-3/
END:VEVENT
BEGIN:VEVENT
DTSTART;VALUE=DATE:20220114
DTEND;VALUE=DATE:20220115
DTSTAMP:20260421T122804
CREATED:20210909T163249Z
LAST-MODIFIED:20210909T163249Z
UID:6002-1642118400-1642204799@pioneerchristian.org
SUMMARY:Half Day / End of Quarter 2
DESCRIPTION:
URL:https://pioneerchristian.org/event/half-day-end-of-quarter-2/
END:VEVENT
BEGIN:VEVENT
DTSTART;VALUE=DATE:20220112
DTEND;VALUE=DATE:20220113
DTSTAMP:20260421T122804
CREATED:20210909T164734Z
LAST-MODIFIED:20210909T164734Z
UID:6077-1641945600-1642031999@pioneerchristian.org
SUMMARY:Kindergarten
DESCRIPTION:
URL:https://pioneerchristian.org/event/kindergarten-40/
END:VEVENT
BEGIN:VEVENT
DTSTART;VALUE=DATE:20220110
DTEND;VALUE=DATE:20220111
DTSTAMP:20260421T122804
CREATED:20210909T164734Z
LAST-MODIFIED:20210909T164734Z
UID:6076-1641772800-1641859199@pioneerchristian.org
SUMMARY:Kindergarten
DESCRIPTION:
URL:https://pioneerchristian.org/event/kindergarten-39/
END:VEVENT
BEGIN:VEVENT
DTSTART;VALUE=DATE:20220109
DTEND;VALUE=DATE:20220110
DTSTAMP:20260421T122804
CREATED:20210909T163249Z
LAST-MODIFIED:20210909T163249Z
UID:6001-1641686400-1641772799@pioneerchristian.org
SUMMARY:Week 8
DESCRIPTION:
URL:https://pioneerchristian.org/event/week-8-2/
END:VEVENT
BEGIN:VEVENT
DTSTART;VALUE=DATE:20220107
DTEND;VALUE=DATE:20220108
DTSTAMP:20260421T122804
CREATED:20210909T165216Z
LAST-MODIFIED:20210909T165216Z
UID:6130-1641513600-1641599999@pioneerchristian.org
SUMMARY:Hot Lunch
DESCRIPTION:
URL:https://pioneerchristian.org/event/hot-lunch-9/
END:VEVENT
BEGIN:VEVENT
DTSTART;VALUE=DATE:20220107
DTEND;VALUE=DATE:20220108
DTSTAMP:20260421T122804
CREATED:20210909T164734Z
LAST-MODIFIED:20210909T164734Z
UID:6075-1641513600-1641599999@pioneerchristian.org
SUMMARY:Kindergarten
DESCRIPTION:
URL:https://pioneerchristian.org/event/kindergarten-38/
END:VEVENT
BEGIN:VEVENT
DTSTART;VALUE=DATE:20220105
DTEND;VALUE=DATE:20220106
DTSTAMP:20260421T122804
CREATED:20210909T164733Z
LAST-MODIFIED:20210909T164733Z
UID:6074-1641340800-1641427199@pioneerchristian.org
SUMMARY:Kindergarten
DESCRIPTION:
URL:https://pioneerchristian.org/event/kindergarten-37/
END:VEVENT
BEGIN:VEVENT
DTSTART;VALUE=DATE:20220103
DTEND;VALUE=DATE:20220104
DTSTAMP:20260421T122804
CREATED:20210909T164733Z
LAST-MODIFIED:20210909T164733Z
UID:6073-1641168000-1641254399@pioneerchristian.org
SUMMARY:Kindergarten
DESCRIPTION:
URL:https://pioneerchristian.org/event/kindergarten-36/
END:VEVENT
BEGIN:VEVENT
DTSTART;VALUE=DATE:20220102
DTEND;VALUE=DATE:20220103
DTSTAMP:20260421T122804
CREATED:20210909T163248Z
LAST-MODIFIED:20210909T163248Z
UID:6000-1641081600-1641167999@pioneerchristian.org
SUMMARY:Week 7
DESCRIPTION:
URL:https://pioneerchristian.org/event/week-7-3/
END:VEVENT
BEGIN:VEVENT
DTSTART;VALUE=DATE:20211220
DTEND;VALUE=DATE:20220101
DTSTAMP:20260421T122804
CREATED:20210909T163248Z
LAST-MODIFIED:20210909T163248Z
UID:5999-1639958400-1640995199@pioneerchristian.org
SUMMARY:Christmas Break
DESCRIPTION:
URL:https://pioneerchristian.org/event/christmas-break/
END:VEVENT
BEGIN:VEVENT
DTSTART;VALUE=DATE:20211219
DTEND;VALUE=DATE:20211220
DTSTAMP:20260421T122804
CREATED:20210909T163248Z
LAST-MODIFIED:20210909T163248Z
UID:5998-1639872000-1639958399@pioneerchristian.org
SUMMARY:Week 7
DESCRIPTION:
URL:https://pioneerchristian.org/event/week-7-2/
END:VEVENT
BEGIN:VEVENT
DTSTART;VALUE=DATE:20211217
DTEND;VALUE=DATE:20211218
DTSTAMP:20260421T122804
CREATED:20210909T165216Z
LAST-MODIFIED:20210909T165216Z
UID:6129-1639699200-1639785599@pioneerchristian.org
SUMMARY:Hot Lunch
DESCRIPTION:
URL:https://pioneerchristian.org/event/hot-lunch-8/
END:VEVENT
BEGIN:VEVENT
DTSTART;VALUE=DATE:20211217
DTEND;VALUE=DATE:20211218
DTSTAMP:20260421T122804
CREATED:20210909T164733Z
LAST-MODIFIED:20210909T164733Z
UID:6072-1639699200-1639785599@pioneerchristian.org
SUMMARY:Kindergarten
DESCRIPTION:
URL:https://pioneerchristian.org/event/kindergarten-35/
END:VEVENT
BEGIN:VEVENT
DTSTART;VALUE=DATE:20211215
DTEND;VALUE=DATE:20211216
DTSTAMP:20260421T122804
CREATED:20210909T164733Z
LAST-MODIFIED:20210909T164733Z
UID:6071-1639526400-1639612799@pioneerchristian.org
SUMMARY:Kindergarten
DESCRIPTION:
URL:https://pioneerchristian.org/event/kindergarten-34/
END:VEVENT
BEGIN:VEVENT
DTSTART;VALUE=DATE:20211213
DTEND;VALUE=DATE:20211214
DTSTAMP:20260421T122804
CREATED:20210909T164733Z
LAST-MODIFIED:20210909T164733Z
UID:6070-1639353600-1639439999@pioneerchristian.org
SUMMARY:Kindergarten
DESCRIPTION:
URL:https://pioneerchristian.org/event/kindergarten-33/
END:VEVENT
BEGIN:VEVENT
DTSTART;VALUE=DATE:20211212
DTEND;VALUE=DATE:20211213
DTSTAMP:20260421T122804
CREATED:20210909T163248Z
LAST-MODIFIED:20210909T163248Z
UID:5997-1639267200-1639353599@pioneerchristian.org
SUMMARY:Week 6
DESCRIPTION:
URL:https://pioneerchristian.org/event/week-6-2/
END:VEVENT
BEGIN:VEVENT
DTSTART;VALUE=DATE:20211208
DTEND;VALUE=DATE:20211209
DTSTAMP:20260421T122804
CREATED:20210909T164733Z
LAST-MODIFIED:20210909T164733Z
UID:6069-1638921600-1639007999@pioneerchristian.org
SUMMARY:Kindergarten
DESCRIPTION:
URL:https://pioneerchristian.org/event/kindergarten-32/
END:VEVENT
BEGIN:VEVENT
DTSTART;VALUE=DATE:20211206
DTEND;VALUE=DATE:20211207
DTSTAMP:20260421T122804
CREATED:20210909T164733Z
LAST-MODIFIED:20210909T164733Z
UID:6068-1638748800-1638835199@pioneerchristian.org
SUMMARY:Kindergarten
DESCRIPTION:
URL:https://pioneerchristian.org/event/kindergarten-31/
END:VEVENT
BEGIN:VEVENT
DTSTART;VALUE=DATE:20211205
DTEND;VALUE=DATE:20211206
DTSTAMP:20260421T122804
CREATED:20210909T163248Z
LAST-MODIFIED:20210909T163248Z
UID:5996-1638662400-1638748799@pioneerchristian.org
SUMMARY:Week 5
DESCRIPTION:
URL:https://pioneerchristian.org/event/week-5-2/
END:VEVENT
END:VCALENDAR