BEGIN:VCALENDAR
VERSION:2.0
PRODID:-// - ECPv6.15.12.2//NONSGML v1.0//EN
CALSCALE:GREGORIAN
METHOD:PUBLISH
X-ORIGINAL-URL:https://pioneerchristian.org
X-WR-CALDESC:Events for 
REFRESH-INTERVAL;VALUE=DURATION:PT1H
X-Robots-Tag:noindex
X-PUBLISHED-TTL:PT1H
BEGIN:VTIMEZONE
TZID:America/Vancouver
BEGIN:DAYLIGHT
TZOFFSETFROM:-0800
TZOFFSETTO:-0700
TZNAME:PDT
DTSTART:20200308T100000
END:DAYLIGHT
BEGIN:STANDARD
TZOFFSETFROM:-0700
TZOFFSETTO:-0800
TZNAME:PST
DTSTART:20201101T090000
END:STANDARD
BEGIN:DAYLIGHT
TZOFFSETFROM:-0800
TZOFFSETTO:-0700
TZNAME:PDT
DTSTART:20210314T100000
END:DAYLIGHT
BEGIN:STANDARD
TZOFFSETFROM:-0700
TZOFFSETTO:-0800
TZNAME:PST
DTSTART:20211107T090000
END:STANDARD
BEGIN:DAYLIGHT
TZOFFSETFROM:-0800
TZOFFSETTO:-0700
TZNAME:PDT
DTSTART:20220313T100000
END:DAYLIGHT
BEGIN:STANDARD
TZOFFSETFROM:-0700
TZOFFSETTO:-0800
TZNAME:PST
DTSTART:20221106T090000
END:STANDARD
END:VTIMEZONE
BEGIN:VEVENT
DTSTART;VALUE=DATE:20211105
DTEND;VALUE=DATE:20211106
DTSTAMP:20260421T152233
CREATED:20210909T163246Z
LAST-MODIFIED:20210909T163246Z
UID:5986-1636070400-1636156799@pioneerchristian.org
SUMMARY:Half Day / End of Quarter 1
DESCRIPTION:
URL:https://pioneerchristian.org/event/half-day-end-of-quarter-1/
END:VEVENT
BEGIN:VEVENT
DTSTART;VALUE=DATE:20211103
DTEND;VALUE=DATE:20211104
DTSTAMP:20260421T152233
CREATED:20210909T164731Z
LAST-MODIFIED:20210909T164731Z
UID:6057-1635897600-1635983999@pioneerchristian.org
SUMMARY:Kindergarten
DESCRIPTION:
URL:https://pioneerchristian.org/event/kindergarten-20/
END:VEVENT
BEGIN:VEVENT
DTSTART;VALUE=DATE:20211101
DTEND;VALUE=DATE:20211102
DTSTAMP:20260421T152233
CREATED:20210909T164731Z
LAST-MODIFIED:20210909T164731Z
UID:6056-1635724800-1635811199@pioneerchristian.org
SUMMARY:Kindergarten
DESCRIPTION:
URL:https://pioneerchristian.org/event/kindergarten-19/
END:VEVENT
BEGIN:VEVENT
DTSTART;VALUE=DATE:20211031
DTEND;VALUE=DATE:20211101
DTSTAMP:20260421T152233
CREATED:20210909T163246Z
LAST-MODIFIED:20210909T163246Z
UID:5985-1635638400-1635724799@pioneerchristian.org
SUMMARY:Week 9
DESCRIPTION:
URL:https://pioneerchristian.org/event/week-9/
END:VEVENT
BEGIN:VEVENT
DTSTART;VALUE=DATE:20211027
DTEND;VALUE=DATE:20211028
DTSTAMP:20260421T152233
CREATED:20210909T164731Z
LAST-MODIFIED:20210909T164731Z
UID:6055-1635292800-1635379199@pioneerchristian.org
SUMMARY:Kindergarten
DESCRIPTION:
URL:https://pioneerchristian.org/event/kindergarten-18/
END:VEVENT
BEGIN:VEVENT
DTSTART;VALUE=DATE:20211025
DTEND;VALUE=DATE:20211026
DTSTAMP:20260421T152233
CREATED:20210909T164731Z
LAST-MODIFIED:20210909T164731Z
UID:6054-1635120000-1635206399@pioneerchristian.org
SUMMARY:Kindergarten
DESCRIPTION:
URL:https://pioneerchristian.org/event/kindergarten-17/
END:VEVENT
BEGIN:VEVENT
DTSTART;VALUE=DATE:20211024
DTEND;VALUE=DATE:20211025
DTSTAMP:20260421T152233
CREATED:20210909T163246Z
LAST-MODIFIED:20210909T163246Z
UID:5983-1635033600-1635119999@pioneerchristian.org
SUMMARY:Week 8
DESCRIPTION:
URL:https://pioneerchristian.org/event/week-8/
END:VEVENT
BEGIN:VEVENT
DTSTART;VALUE=DATE:20211023
DTEND;VALUE=DATE:20211024
DTSTAMP:20260421T152233
CREATED:20210909T163246Z
LAST-MODIFIED:20210909T163246Z
UID:5984-1634947200-1635033599@pioneerchristian.org
SUMMARY:PCA Auction
DESCRIPTION:
URL:https://pioneerchristian.org/event/pca-auction/
END:VEVENT
BEGIN:VEVENT
DTSTART;VALUE=DATE:20211022
DTEND;VALUE=DATE:20211023
DTSTAMP:20260421T152233
CREATED:20210909T165216Z
LAST-MODIFIED:20210909T165216Z
UID:6126-1634860800-1634947199@pioneerchristian.org
SUMMARY:Hot Lunch
DESCRIPTION:
URL:https://pioneerchristian.org/event/hot-lunch-4/
END:VEVENT
BEGIN:VEVENT
DTSTART;VALUE=DATE:20211022
DTEND;VALUE=DATE:20211023
DTSTAMP:20260421T152233
CREATED:20210909T164731Z
LAST-MODIFIED:20210909T164731Z
UID:6053-1634860800-1634947199@pioneerchristian.org
SUMMARY:Kindergarten
DESCRIPTION:
URL:https://pioneerchristian.org/event/kindergarten-16/
END:VEVENT
BEGIN:VEVENT
DTSTART;VALUE=DATE:20211020
DTEND;VALUE=DATE:20211021
DTSTAMP:20260421T152233
CREATED:20210909T164731Z
LAST-MODIFIED:20210909T164731Z
UID:6052-1634688000-1634774399@pioneerchristian.org
SUMMARY:Kindergarten
DESCRIPTION:
URL:https://pioneerchristian.org/event/kindergarten-15/
END:VEVENT
BEGIN:VEVENT
DTSTART;VALUE=DATE:20211018
DTEND;VALUE=DATE:20211019
DTSTAMP:20260421T152233
CREATED:20210909T164731Z
LAST-MODIFIED:20210909T164731Z
UID:6051-1634515200-1634601599@pioneerchristian.org
SUMMARY:Kindergarten
DESCRIPTION:
URL:https://pioneerchristian.org/event/kindergarten-14/
END:VEVENT
BEGIN:VEVENT
DTSTART;VALUE=DATE:20211017
DTEND;VALUE=DATE:20211018
DTSTAMP:20260421T152233
CREATED:20210909T163246Z
LAST-MODIFIED:20210909T163246Z
UID:5982-1634428800-1634515199@pioneerchristian.org
SUMMARY:Week 7
DESCRIPTION:
URL:https://pioneerchristian.org/event/week-7/
END:VEVENT
BEGIN:VEVENT
DTSTART;VALUE=DATE:20211013
DTEND;VALUE=DATE:20211014
DTSTAMP:20260421T152233
CREATED:20210909T164731Z
LAST-MODIFIED:20210909T164731Z
UID:6050-1634083200-1634169599@pioneerchristian.org
SUMMARY:Kindergarten
DESCRIPTION:
URL:https://pioneerchristian.org/event/kindergarten-13/
END:VEVENT
BEGIN:VEVENT
DTSTART;VALUE=DATE:20211011
DTEND;VALUE=DATE:20211012
DTSTAMP:20260421T152233
CREATED:20210909T164731Z
LAST-MODIFIED:20210909T164731Z
UID:6049-1633910400-1633996799@pioneerchristian.org
SUMMARY:Kindergarten
DESCRIPTION:
URL:https://pioneerchristian.org/event/kindergarten-12/
END:VEVENT
BEGIN:VEVENT
DTSTART;VALUE=DATE:20211010
DTEND;VALUE=DATE:20211011
DTSTAMP:20260421T152233
CREATED:20210909T163246Z
LAST-MODIFIED:20210909T163246Z
UID:5981-1633824000-1633910399@pioneerchristian.org
SUMMARY:Week 6
DESCRIPTION:
URL:https://pioneerchristian.org/event/week-6/
END:VEVENT
BEGIN:VEVENT
DTSTART;VALUE=DATE:20211008
DTEND;VALUE=DATE:20211009
DTSTAMP:20260421T152233
CREATED:20210909T165216Z
LAST-MODIFIED:20210909T165216Z
UID:6125-1633651200-1633737599@pioneerchristian.org
SUMMARY:Hot Lunch
DESCRIPTION:
URL:https://pioneerchristian.org/event/hot-lunch-3/
END:VEVENT
BEGIN:VEVENT
DTSTART;VALUE=DATE:20211008
DTEND;VALUE=DATE:20211009
DTSTAMP:20260421T152233
CREATED:20210909T164730Z
LAST-MODIFIED:20210909T164730Z
UID:6048-1633651200-1633737599@pioneerchristian.org
SUMMARY:Kindergarten
DESCRIPTION:
URL:https://pioneerchristian.org/event/kindergarten-11/
END:VEVENT
BEGIN:VEVENT
DTSTART;VALUE=DATE:20211006
DTEND;VALUE=DATE:20211007
DTSTAMP:20260421T152233
CREATED:20210909T164730Z
LAST-MODIFIED:20210909T164730Z
UID:6047-1633478400-1633564799@pioneerchristian.org
SUMMARY:Kindergarten
DESCRIPTION:
URL:https://pioneerchristian.org/event/kindergarten-10/
END:VEVENT
BEGIN:VEVENT
DTSTART;VALUE=DATE:20211004
DTEND;VALUE=DATE:20211005
DTSTAMP:20260421T152233
CREATED:20210909T164730Z
LAST-MODIFIED:20210909T164730Z
UID:6046-1633305600-1633391999@pioneerchristian.org
SUMMARY:Kindergarten
DESCRIPTION:
URL:https://pioneerchristian.org/event/kindergarten-9/
END:VEVENT
BEGIN:VEVENT
DTSTART;VALUE=DATE:20211003
DTEND;VALUE=DATE:20211004
DTSTAMP:20260421T152233
CREATED:20210909T163246Z
LAST-MODIFIED:20210909T163246Z
UID:5980-1633219200-1633305599@pioneerchristian.org
SUMMARY:Week 5
DESCRIPTION:
URL:https://pioneerchristian.org/event/week-5/
END:VEVENT
BEGIN:VEVENT
DTSTART;VALUE=DATE:20210929
DTEND;VALUE=DATE:20210930
DTSTAMP:20260421T152233
CREATED:20210909T164730Z
LAST-MODIFIED:20210909T164730Z
UID:6045-1632873600-1632959999@pioneerchristian.org
SUMMARY:Kindergarten
DESCRIPTION:
URL:https://pioneerchristian.org/event/kindergarten-8/
END:VEVENT
BEGIN:VEVENT
DTSTART;VALUE=DATE:20210927
DTEND;VALUE=DATE:20210928
DTSTAMP:20260421T152233
CREATED:20210909T164730Z
LAST-MODIFIED:20210909T164730Z
UID:6044-1632700800-1632787199@pioneerchristian.org
SUMMARY:Kindergarten
DESCRIPTION:
URL:https://pioneerchristian.org/event/kindergarten-7/
END:VEVENT
BEGIN:VEVENT
DTSTART;VALUE=DATE:20210926
DTEND;VALUE=DATE:20210927
DTSTAMP:20260421T152233
CREATED:20210909T163246Z
LAST-MODIFIED:20210909T163246Z
UID:5979-1632614400-1632700799@pioneerchristian.org
SUMMARY:Week 4
DESCRIPTION:
URL:https://pioneerchristian.org/event/week-4/
END:VEVENT
BEGIN:VEVENT
DTSTART;VALUE=DATE:20210924
DTEND;VALUE=DATE:20210925
DTSTAMP:20260421T152233
CREATED:20210909T165216Z
LAST-MODIFIED:20210909T165216Z
UID:6124-1632441600-1632527999@pioneerchristian.org
SUMMARY:Hot Lunch
DESCRIPTION:
URL:https://pioneerchristian.org/event/hot-lunch-2/
END:VEVENT
BEGIN:VEVENT
DTSTART;VALUE=DATE:20210924
DTEND;VALUE=DATE:20210925
DTSTAMP:20260421T152233
CREATED:20210909T164730Z
LAST-MODIFIED:20210909T164730Z
UID:6043-1632441600-1632527999@pioneerchristian.org
SUMMARY:Kindergarten
DESCRIPTION:
URL:https://pioneerchristian.org/event/kindergarten-6/
END:VEVENT
BEGIN:VEVENT
DTSTART;VALUE=DATE:20210922
DTEND;VALUE=DATE:20210923
DTSTAMP:20260421T152233
CREATED:20210909T164730Z
LAST-MODIFIED:20210909T164730Z
UID:6042-1632268800-1632355199@pioneerchristian.org
SUMMARY:Kindergarten
DESCRIPTION:
URL:https://pioneerchristian.org/event/kindergarten-5/
END:VEVENT
BEGIN:VEVENT
DTSTART;VALUE=DATE:20210920
DTEND;VALUE=DATE:20210921
DTSTAMP:20260421T152233
CREATED:20210909T164730Z
LAST-MODIFIED:20210909T164730Z
UID:6041-1632096000-1632182399@pioneerchristian.org
SUMMARY:Kindergarten
DESCRIPTION:
URL:https://pioneerchristian.org/event/kindergarten-4/
END:VEVENT
BEGIN:VEVENT
DTSTART;VALUE=DATE:20210919
DTEND;VALUE=DATE:20210920
DTSTAMP:20260421T152233
CREATED:20210909T163245Z
LAST-MODIFIED:20210909T163245Z
UID:5978-1632009600-1632095999@pioneerchristian.org
SUMMARY:Week 3
DESCRIPTION:
URL:https://pioneerchristian.org/event/week-3/
END:VEVENT
BEGIN:VEVENT
DTSTART;VALUE=DATE:20210915
DTEND;VALUE=DATE:20210916
DTSTAMP:20260421T152233
CREATED:20210909T164730Z
LAST-MODIFIED:20210909T164730Z
UID:6040-1631664000-1631750399@pioneerchristian.org
SUMMARY:Kindergarten
DESCRIPTION:
URL:https://pioneerchristian.org/event/kindergarten-3/
END:VEVENT
END:VCALENDAR