BEGIN:VCALENDAR
VERSION:2.0
PRODID:-// - ECPv6.15.12.2//NONSGML v1.0//EN
CALSCALE:GREGORIAN
METHOD:PUBLISH
X-ORIGINAL-URL:https://pioneerchristian.org
X-WR-CALDESC:Events for 
REFRESH-INTERVAL;VALUE=DURATION:PT1H
X-Robots-Tag:noindex
X-PUBLISHED-TTL:PT1H
BEGIN:VTIMEZONE
TZID:America/Vancouver
BEGIN:DAYLIGHT
TZOFFSETFROM:-0800
TZOFFSETTO:-0700
TZNAME:PDT
DTSTART:20200308T100000
END:DAYLIGHT
BEGIN:STANDARD
TZOFFSETFROM:-0700
TZOFFSETTO:-0800
TZNAME:PST
DTSTART:20201101T090000
END:STANDARD
BEGIN:DAYLIGHT
TZOFFSETFROM:-0800
TZOFFSETTO:-0700
TZNAME:PDT
DTSTART:20210314T100000
END:DAYLIGHT
BEGIN:STANDARD
TZOFFSETFROM:-0700
TZOFFSETTO:-0800
TZNAME:PST
DTSTART:20211107T090000
END:STANDARD
BEGIN:DAYLIGHT
TZOFFSETFROM:-0800
TZOFFSETTO:-0700
TZNAME:PDT
DTSTART:20220313T100000
END:DAYLIGHT
BEGIN:STANDARD
TZOFFSETFROM:-0700
TZOFFSETTO:-0800
TZNAME:PST
DTSTART:20221106T090000
END:STANDARD
END:VTIMEZONE
BEGIN:VEVENT
DTSTART;VALUE=DATE:20211003
DTEND;VALUE=DATE:20211004
DTSTAMP:20260421T183145
CREATED:20210909T163246Z
LAST-MODIFIED:20210909T163246Z
UID:5980-1633219200-1633305599@pioneerchristian.org
SUMMARY:Week 5
DESCRIPTION:
URL:https://pioneerchristian.org/event/week-5/
END:VEVENT
BEGIN:VEVENT
DTSTART;VALUE=DATE:20210929
DTEND;VALUE=DATE:20210930
DTSTAMP:20260421T183145
CREATED:20210909T164730Z
LAST-MODIFIED:20210909T164730Z
UID:6045-1632873600-1632959999@pioneerchristian.org
SUMMARY:Kindergarten
DESCRIPTION:
URL:https://pioneerchristian.org/event/kindergarten-8/
END:VEVENT
BEGIN:VEVENT
DTSTART;VALUE=DATE:20210927
DTEND;VALUE=DATE:20210928
DTSTAMP:20260421T183145
CREATED:20210909T164730Z
LAST-MODIFIED:20210909T164730Z
UID:6044-1632700800-1632787199@pioneerchristian.org
SUMMARY:Kindergarten
DESCRIPTION:
URL:https://pioneerchristian.org/event/kindergarten-7/
END:VEVENT
BEGIN:VEVENT
DTSTART;VALUE=DATE:20210926
DTEND;VALUE=DATE:20210927
DTSTAMP:20260421T183145
CREATED:20210909T163246Z
LAST-MODIFIED:20210909T163246Z
UID:5979-1632614400-1632700799@pioneerchristian.org
SUMMARY:Week 4
DESCRIPTION:
URL:https://pioneerchristian.org/event/week-4/
END:VEVENT
BEGIN:VEVENT
DTSTART;VALUE=DATE:20210924
DTEND;VALUE=DATE:20210925
DTSTAMP:20260421T183145
CREATED:20210909T165216Z
LAST-MODIFIED:20210909T165216Z
UID:6124-1632441600-1632527999@pioneerchristian.org
SUMMARY:Hot Lunch
DESCRIPTION:
URL:https://pioneerchristian.org/event/hot-lunch-2/
END:VEVENT
BEGIN:VEVENT
DTSTART;VALUE=DATE:20210924
DTEND;VALUE=DATE:20210925
DTSTAMP:20260421T183145
CREATED:20210909T164730Z
LAST-MODIFIED:20210909T164730Z
UID:6043-1632441600-1632527999@pioneerchristian.org
SUMMARY:Kindergarten
DESCRIPTION:
URL:https://pioneerchristian.org/event/kindergarten-6/
END:VEVENT
BEGIN:VEVENT
DTSTART;VALUE=DATE:20210922
DTEND;VALUE=DATE:20210923
DTSTAMP:20260421T183145
CREATED:20210909T164730Z
LAST-MODIFIED:20210909T164730Z
UID:6042-1632268800-1632355199@pioneerchristian.org
SUMMARY:Kindergarten
DESCRIPTION:
URL:https://pioneerchristian.org/event/kindergarten-5/
END:VEVENT
BEGIN:VEVENT
DTSTART;VALUE=DATE:20210920
DTEND;VALUE=DATE:20210921
DTSTAMP:20260421T183145
CREATED:20210909T164730Z
LAST-MODIFIED:20210909T164730Z
UID:6041-1632096000-1632182399@pioneerchristian.org
SUMMARY:Kindergarten
DESCRIPTION:
URL:https://pioneerchristian.org/event/kindergarten-4/
END:VEVENT
BEGIN:VEVENT
DTSTART;VALUE=DATE:20210919
DTEND;VALUE=DATE:20210920
DTSTAMP:20260421T183145
CREATED:20210909T163245Z
LAST-MODIFIED:20210909T163245Z
UID:5978-1632009600-1632095999@pioneerchristian.org
SUMMARY:Week 3
DESCRIPTION:
URL:https://pioneerchristian.org/event/week-3/
END:VEVENT
BEGIN:VEVENT
DTSTART;VALUE=DATE:20210915
DTEND;VALUE=DATE:20210916
DTSTAMP:20260421T183145
CREATED:20210909T164730Z
LAST-MODIFIED:20210909T164730Z
UID:6040-1631664000-1631750399@pioneerchristian.org
SUMMARY:Kindergarten
DESCRIPTION:
URL:https://pioneerchristian.org/event/kindergarten-3/
END:VEVENT
BEGIN:VEVENT
DTSTART;VALUE=DATE:20210913
DTEND;VALUE=DATE:20210914
DTSTAMP:20260421T183145
CREATED:20210909T164729Z
LAST-MODIFIED:20210909T164729Z
UID:6039-1631491200-1631577599@pioneerchristian.org
SUMMARY:Kindergarten
DESCRIPTION:
URL:https://pioneerchristian.org/event/kindergarten-2/
END:VEVENT
BEGIN:VEVENT
DTSTART;VALUE=DATE:20210912
DTEND;VALUE=DATE:20210913
DTSTAMP:20260421T183145
CREATED:20210909T163245Z
LAST-MODIFIED:20210909T163245Z
UID:5977-1631404800-1631491199@pioneerchristian.org
SUMMARY:Week 2
DESCRIPTION:
URL:https://pioneerchristian.org/event/week-2/
END:VEVENT
BEGIN:VEVENT
DTSTART;VALUE=DATE:20210910
DTEND;VALUE=DATE:20210911
DTSTAMP:20260421T183145
CREATED:20210909T164729Z
LAST-MODIFIED:20210909T164729Z
UID:6038-1631232000-1631318399@pioneerchristian.org
SUMMARY:Kindergarten
DESCRIPTION:
URL:https://pioneerchristian.org/event/kindergarten/
END:VEVENT
END:VCALENDAR