BEGIN:VCALENDAR
VERSION:2.0
PRODID:-// - ECPv6.15.12.2//NONSGML v1.0//EN
CALSCALE:GREGORIAN
METHOD:PUBLISH
X-ORIGINAL-URL:https://pioneerchristian.org
X-WR-CALDESC:Events for 
REFRESH-INTERVAL;VALUE=DURATION:PT1H
X-Robots-Tag:noindex
X-PUBLISHED-TTL:PT1H
BEGIN:VTIMEZONE
TZID:America/Vancouver
BEGIN:DAYLIGHT
TZOFFSETFROM:-0800
TZOFFSETTO:-0700
TZNAME:PDT
DTSTART:20200308T100000
END:DAYLIGHT
BEGIN:STANDARD
TZOFFSETFROM:-0700
TZOFFSETTO:-0800
TZNAME:PST
DTSTART:20201101T090000
END:STANDARD
BEGIN:DAYLIGHT
TZOFFSETFROM:-0800
TZOFFSETTO:-0700
TZNAME:PDT
DTSTART:20210314T100000
END:DAYLIGHT
BEGIN:STANDARD
TZOFFSETFROM:-0700
TZOFFSETTO:-0800
TZNAME:PST
DTSTART:20211107T090000
END:STANDARD
BEGIN:DAYLIGHT
TZOFFSETFROM:-0800
TZOFFSETTO:-0700
TZNAME:PDT
DTSTART:20220313T100000
END:DAYLIGHT
BEGIN:STANDARD
TZOFFSETFROM:-0700
TZOFFSETTO:-0800
TZNAME:PST
DTSTART:20221106T090000
END:STANDARD
END:VTIMEZONE
BEGIN:VEVENT
DTSTART;VALUE=DATE:20210919
DTEND;VALUE=DATE:20210920
DTSTAMP:20260421T184736
CREATED:20210909T163245Z
LAST-MODIFIED:20210909T163245Z
UID:5978-1632009600-1632095999@pioneerchristian.org
SUMMARY:Week 3
DESCRIPTION:
URL:https://pioneerchristian.org/event/week-3/
END:VEVENT
BEGIN:VEVENT
DTSTART;VALUE=DATE:20210915
DTEND;VALUE=DATE:20210916
DTSTAMP:20260421T184736
CREATED:20210909T164730Z
LAST-MODIFIED:20210909T164730Z
UID:6040-1631664000-1631750399@pioneerchristian.org
SUMMARY:Kindergarten
DESCRIPTION:
URL:https://pioneerchristian.org/event/kindergarten-3/
END:VEVENT
BEGIN:VEVENT
DTSTART;VALUE=DATE:20210913
DTEND;VALUE=DATE:20210914
DTSTAMP:20260421T184736
CREATED:20210909T164729Z
LAST-MODIFIED:20210909T164729Z
UID:6039-1631491200-1631577599@pioneerchristian.org
SUMMARY:Kindergarten
DESCRIPTION:
URL:https://pioneerchristian.org/event/kindergarten-2/
END:VEVENT
BEGIN:VEVENT
DTSTART;VALUE=DATE:20210912
DTEND;VALUE=DATE:20210913
DTSTAMP:20260421T184736
CREATED:20210909T163245Z
LAST-MODIFIED:20210909T163245Z
UID:5977-1631404800-1631491199@pioneerchristian.org
SUMMARY:Week 2
DESCRIPTION:
URL:https://pioneerchristian.org/event/week-2/
END:VEVENT
BEGIN:VEVENT
DTSTART;VALUE=DATE:20210910
DTEND;VALUE=DATE:20210911
DTSTAMP:20260421T184736
CREATED:20210909T164729Z
LAST-MODIFIED:20210909T164729Z
UID:6038-1631232000-1631318399@pioneerchristian.org
SUMMARY:Kindergarten
DESCRIPTION:
URL:https://pioneerchristian.org/event/kindergarten/
END:VEVENT
END:VCALENDAR